BEGIN:VCALENDAR
VERSION:2.0
PRODID:-//hacksw/handcal//NONSGML v1.0//EN
BEGIN:VEVENT
UID:6411
DTSTART;VALUE=DATE:20160610
URL;VALUE=URI:ohschonhell.at/?page_id=12069
SUMMARY:9 Jahre SASS ▬ 3 Nächte ▬ 1 Morgen
LOCATION:SASS
END:VEVENT
END:VCALENDAR


