BEGIN:VCALENDAR
VERSION:2.0
PRODID:-//hacksw/handcal//NONSGML v1.0//EN
BEGIN:VEVENT
UID:6422
DTSTART;VALUE=DATE:20160709
URL;VALUE=URI:ohschonhell.at/?page_id=12092
SUMMARY:Vienna Calling Open Air Part 2 | 09.juli - Vcbc
LOCATION:VIENNA CITY BEACH CLUB
END:VEVENT
END:VCALENDAR


