BEGIN:VCALENDAR
VERSION:2.0
PRODID:-//hacksw/handcal//NONSGML v1.0//EN
BEGIN:VEVENT
UID:6426
DTSTART;VALUE=DATE:20160625
URL;VALUE=URI:ohschonhell.at/?page_id=12100
SUMMARY:Jux &amp\; Tollerei - The Man Who Knows
LOCATION:DUAL
END:VEVENT
END:VCALENDAR


