BEGIN:VCALENDAR
VERSION:2.0
PRODID:-//hacksw/handcal//NONSGML v1.0//EN
BEGIN:VEVENT
UID:6430
DTSTART;VALUE=DATE:20160618
URL;VALUE=URI:ohschonhell.at/?page_id=12108
SUMMARY:Feiern Unter Freunden
LOCATION:DUAL
END:VEVENT
END:VCALENDAR


