BEGIN:VCALENDAR
VERSION:2.0
PRODID:-//hacksw/handcal//NONSGML v1.0//EN
BEGIN:VEVENT
UID:6463
DTSTART;VALUE=DATE:20160618
URL;VALUE=URI:ohschonhell.at/?page_id=12179
SUMMARY:Get Whipped every saturday at Volksgarten
LOCATION:VOLKSGARTEN
END:VEVENT
END:VCALENDAR


