BEGIN:VCALENDAR
VERSION:2.0
PRODID:-//hacksw/handcal//NONSGML v1.0//EN
BEGIN:VEVENT
UID:6473
DTSTART;VALUE=DATE:20160825
URL;VALUE=URI:ohschonhell.at/?page_id=12202
SUMMARY:Sonus Festival 2016
LOCATION:Sonus Festival - Kroatien
END:VEVENT
END:VCALENDAR


