BEGIN:VCALENDAR
VERSION:2.0
PRODID:-//hacksw/handcal//NONSGML v1.0//EN
BEGIN:VEVENT
UID:6482
DTSTART;VALUE=DATE:20160701
URL;VALUE=URI:ohschonhell.at/?page_id=12220
SUMMARY:Klickerklacker im Prater
LOCATION:ENDSTATION HALTESTELLE 1er
END:VEVENT
END:VCALENDAR


