BEGIN:VCALENDAR
VERSION:2.0
PRODID:-//hacksw/handcal//NONSGML v1.0//EN
BEGIN:VEVENT
UID:6484
DTSTART;VALUE=DATE:20160625
URL;VALUE=URI:ohschonhell.at/?page_id=12224
SUMMARY:Salon Gold &amp\; Essential ▬ 20 Years Moodmusic Records Berlin
LOCATION:SASS
END:VEVENT
END:VCALENDAR


