BEGIN:VCALENDAR
VERSION:2.0
PRODID:-//hacksw/handcal//NONSGML v1.0//EN
BEGIN:VEVENT
UID:6504
DTSTART;VALUE=DATE:20160701
URL;VALUE=URI:ohschonhell.at/?page_id=12266
SUMMARY:Nightkisses - Open Air
LOCATION:SUMMER STATION
END:VEVENT
END:VCALENDAR


