BEGIN:VCALENDAR
VERSION:2.0
PRODID:-//hacksw/handcal//NONSGML v1.0//EN
BEGIN:VEVENT
UID:6514
DTSTART;VALUE=DATE:20160701
URL;VALUE=URI:ohschonhell.at/?page_id=12286
SUMMARY:Mutter - 33 Hopes and 45 Dreams - Annie are you ok?
LOCATION:SASS
END:VEVENT
END:VCALENDAR


