BEGIN:VCALENDAR
VERSION:2.0
PRODID:-//hacksw/handcal//NONSGML v1.0//EN
BEGIN:VEVENT
UID:652
DTSTART;VALUE=DATE:20140228
URL;VALUE=URI:ohschonhell.at/?page_id=3108
SUMMARY:SOUNDLAB PIRATES - 3rd Anniversary Celebration
LOCATION:CLUB 34
END:VEVENT
END:VCALENDAR


