BEGIN:VCALENDAR
VERSION:2.0
PRODID:-//hacksw/handcal//NONSGML v1.0//EN
BEGIN:VEVENT
UID:6544
DTSTART;VALUE=DATE:20160709
URL;VALUE=URI:ohschonhell.at/?page_id=12346
SUMMARY:Familienfeier in noctis
LOCATION:ELEKTRO GÖNNER
END:VEVENT
END:VCALENDAR


