BEGIN:VCALENDAR
VERSION:2.0
PRODID:-//hacksw/handcal//NONSGML v1.0//EN
BEGIN:VEVENT
UID:6545
DTSTART;VALUE=DATE:20160709
URL;VALUE=URI:ohschonhell.at/?page_id=12348
SUMMARY:Familienfeier in lucidum
LOCATION:PORTO POLLO
END:VEVENT
END:VCALENDAR


