BEGIN:VCALENDAR
VERSION:2.0
PRODID:-//hacksw/handcal//NONSGML v1.0//EN
BEGIN:VEVENT
UID:6555
DTSTART;VALUE=DATE:20160723
URL;VALUE=URI:ohschonhell.at/?page_id=12370
SUMMARY:Oh it&#039\;s a free Party ► beim INDER auf der Donauinsel
LOCATION:SUMMER STATION
END:VEVENT
END:VCALENDAR


