BEGIN:VCALENDAR
VERSION:2.0
PRODID:-//hacksw/handcal//NONSGML v1.0//EN
BEGIN:VEVENT
UID:6566
DTSTART;VALUE=DATE:20160709
URL;VALUE=URI:ohschonhell.at/?page_id=12392
SUMMARY:B-Bash Party bumbum ॐ ☼ ॐ
LOCATION:SUMMER STATION
END:VEVENT
END:VCALENDAR


