BEGIN:VCALENDAR
VERSION:2.0
PRODID:-//hacksw/handcal//NONSGML v1.0//EN
BEGIN:VEVENT
UID:6577
DTSTART;VALUE=DATE:20160706
URL;VALUE=URI:ohschonhell.at/?page_id=12414
SUMMARY:Swounds like VCBC
LOCATION:VIENNA CITY BEACH CLUB
END:VEVENT
END:VCALENDAR


