BEGIN:VCALENDAR
VERSION:2.0
PRODID:-//hacksw/handcal//NONSGML v1.0//EN
BEGIN:VEVENT
UID:6579
DTSTART;VALUE=DATE:20160904
URL;VALUE=URI:ohschonhell.at/?page_id=12418
SUMMARY:Technobrunch am Rathausplatz - vienna summerbreak | start 11:00
LOCATION:RATHAUS
END:VEVENT
END:VCALENDAR


