BEGIN:VCALENDAR
VERSION:2.0
PRODID:-//hacksw/handcal//NONSGML v1.0//EN
BEGIN:VEVENT
UID:6599
DTSTART;VALUE=DATE:20160716
URL;VALUE=URI:ohschonhell.at/?page_id=12458
SUMMARY:Salon Gold Extended ▬ 7YRS PRS meets Funkroom
LOCATION:SASS
END:VEVENT
END:VCALENDAR


