BEGIN:VCALENDAR
VERSION:2.0
PRODID:-//hacksw/handcal//NONSGML v1.0//EN
BEGIN:VEVENT
UID:661
DTSTART;VALUE=DATE:20140227
URL;VALUE=URI:ohschonhell.at/?page_id=3117
SUMMARY:TAPESH ♫ SASS
LOCATION:SASS
END:VEVENT
END:VCALENDAR


