BEGIN:VCALENDAR
VERSION:2.0
PRODID:-//hacksw/handcal//NONSGML v1.0//EN
BEGIN:VEVENT
UID:6616
DTSTART;VALUE=DATE:20160716
URL;VALUE=URI:ohschonhell.at/?page_id=12494
SUMMARY:Rolling Beats 2016 / July Edition
LOCATION:VIENNA CITY BEACH CLUB
END:VEVENT
END:VCALENDAR


