BEGIN:VCALENDAR
VERSION:2.0
PRODID:-//hacksw/handcal//NONSGML v1.0//EN
BEGIN:VEVENT
UID:6618
DTSTART;VALUE=DATE:20160716
URL;VALUE=URI:ohschonhell.at/?page_id=12498
SUMMARY:Ausgepufft - und weiter?
LOCATION:Puff
END:VEVENT
END:VCALENDAR


