BEGIN:VCALENDAR
VERSION:2.0
PRODID:-//hacksw/handcal//NONSGML v1.0//EN
BEGIN:VEVENT
UID:6630
DTSTART;VALUE=DATE:20160723
URL;VALUE=URI:ohschonhell.at/?page_id=12524
SUMMARY:Free Party
LOCATION:SUMMER STATION
END:VEVENT
END:VCALENDAR


