BEGIN:VCALENDAR
VERSION:2.0
PRODID:-//hacksw/handcal//NONSGML v1.0//EN
BEGIN:VEVENT
UID:6671
DTSTART;VALUE=DATE:20160722
URL;VALUE=URI:ohschonhell.at/?page_id=12608
SUMMARY:Rave On #18
LOCATION:FLUCC
END:VEVENT
END:VCALENDAR


