BEGIN:VCALENDAR
VERSION:2.0
PRODID:-//hacksw/handcal//NONSGML v1.0//EN
BEGIN:VEVENT
UID:6681
DTSTART;VALUE=DATE:20160714
URL;VALUE=URI:ohschonhell.at/?page_id=12628
SUMMARY:ImPulsTanz festival lounge 14 July-14 Aug
LOCATION:VESTIBÜL BURGTHEATER
END:VEVENT
END:VCALENDAR


