BEGIN:VCALENDAR
VERSION:2.0
PRODID:-//hacksw/handcal//NONSGML v1.0//EN
BEGIN:VEVENT
UID:6699
DTSTART;VALUE=DATE:20160806
URL;VALUE=URI:ohschonhell.at/?page_id=12669
SUMMARY:Delirio en Sábado
LOCATION:Kramladen
END:VEVENT
END:VCALENDAR


