BEGIN:VCALENDAR
VERSION:2.0
PRODID:-//hacksw/handcal//NONSGML v1.0//EN
BEGIN:VEVENT
UID:6731
DTSTART;VALUE=DATE:20160812
URL;VALUE=URI:ohschonhell.at/?page_id=12733
SUMMARY:CRAZY - puppenh̶̶o̶̶u̶̶s̶̶e̶
LOCATION:SASS
END:VEVENT
END:VCALENDAR


