BEGIN:VCALENDAR
VERSION:2.0
PRODID:-//hacksw/handcal//NONSGML v1.0//EN
BEGIN:VEVENT
UID:6732
DTSTART;VALUE=DATE:20160812
URL;VALUE=URI:ohschonhell.at/?page_id=12735
SUMMARY:DanceWEB PARTY ! * * * B.visible live
LOCATION:KASINO AM SCHWARZENBERGPLATZ
END:VEVENT
END:VCALENDAR


