BEGIN:VCALENDAR
VERSION:2.0
PRODID:-//hacksw/handcal//NONSGML v1.0//EN
BEGIN:VEVENT
UID:6739
DTSTART;VALUE=DATE:20160909
URL;VALUE=URI:ohschonhell.at/?page_id=12751
SUMMARY:Salonbetrieb /// edition ONE
LOCATION:ELEKTRO GÖNNER
END:VEVENT
END:VCALENDAR


