BEGIN:VCALENDAR
VERSION:2.0
PRODID:-//hacksw/handcal//NONSGML v1.0//EN
BEGIN:VEVENT
UID:6742
DTSTART;VALUE=DATE:20160818
URL;VALUE=URI:ohschonhell.at/?page_id=12757
SUMMARY:Lounge Affairs - GOLAN live [Etage Noir]
LOCATION:Ruby Marie Hotel & Bar
END:VEVENT
END:VCALENDAR


