BEGIN:VCALENDAR
VERSION:2.0
PRODID:-//hacksw/handcal//NONSGML v1.0//EN
BEGIN:VEVENT
UID:6757
DTSTART;VALUE=DATE:20160902
URL;VALUE=URI:ohschonhell.at/?page_id=12787
SUMMARY:GRAND Opening ▇ Blckthy ▇
LOCATION:GOODMAN
END:VEVENT
END:VCALENDAR


