BEGIN:VCALENDAR
VERSION:2.0
PRODID:-//hacksw/handcal//NONSGML v1.0//EN
BEGIN:VEVENT
UID:6776
DTSTART;VALUE=DATE:20161014
URL;VALUE=URI:ohschonhell.at/?page_id=13031
SUMMARY:★ Dark Fusion ★ pres. by Masters of Puppets &amp\; Psyperience
LOCATION:CLUB 34
END:VEVENT
END:VCALENDAR


