BEGIN:VCALENDAR
VERSION:2.0
PRODID:-//hacksw/handcal//NONSGML v1.0//EN
BEGIN:VEVENT
UID:6781
DTSTART;VALUE=DATE:20160917
URL;VALUE=URI:ohschonhell.at/?page_id=13041
SUMMARY:Heimlich mit Martha Van Straaten
LOCATION:OPERA CLUB
END:VEVENT
END:VCALENDAR


