BEGIN:VCALENDAR
VERSION:2.0
PRODID:-//hacksw/handcal//NONSGML v1.0//EN
BEGIN:VEVENT
UID:6785
DTSTART;VALUE=DATE:20160903
URL;VALUE=URI:ohschonhell.at/?page_id=13049
SUMMARY:GANGpeng! - New York Special!
LOCATION:VOLKSGARTEN
END:VEVENT
END:VCALENDAR


