BEGIN:VCALENDAR
VERSION:2.0
PRODID:-//hacksw/handcal//NONSGML v1.0//EN
BEGIN:VEVENT
UID:6790
DTSTART;VALUE=DATE:20160827
URL;VALUE=URI:ohschonhell.at/?page_id=13059
SUMMARY:Lausch Koko JayCooper Tankris Tokan | gürtelnightwalk im Kramladen
LOCATION:Kramladen
END:VEVENT
END:VCALENDAR


