BEGIN:VCALENDAR
VERSION:2.0
PRODID:-//hacksw/handcal//NONSGML v1.0//EN
BEGIN:VEVENT
UID:6797
DTSTART;VALUE=DATE:20160824
URL;VALUE=URI:ohschonhell.at/?page_id=13073
SUMMARY:Bioskop: AC/Boy I Mikal Maldoror I Lumo
LOCATION:AU
END:VEVENT
END:VCALENDAR


