BEGIN:VCALENDAR
VERSION:2.0
PRODID:-//hacksw/handcal//NONSGML v1.0//EN
BEGIN:VEVENT
UID:6811
DTSTART;VALUE=DATE:20160910
URL;VALUE=URI:ohschonhell.at/?page_id=13105
SUMMARY:A Made Up Reality with: Powder &amp\; 5ive (JPN)
LOCATION:OPERA CLUB
END:VEVENT
END:VCALENDAR


