BEGIN:VCALENDAR
VERSION:2.0
PRODID:-//hacksw/handcal//NONSGML v1.0//EN
BEGIN:VEVENT
UID:6818
DTSTART;VALUE=DATE:20160826
URL;VALUE=URI:ohschonhell.at/?page_id=13119
SUMMARY:AU Residents: Sirius &amp\; Darktunes I Tommy Philippaerts
LOCATION:AU
END:VEVENT
END:VCALENDAR


