BEGIN:VCALENDAR
VERSION:2.0
PRODID:-//hacksw/handcal//NONSGML v1.0//EN
BEGIN:VEVENT
UID:6837
DTSTART;VALUE=DATE:20161104
URL;VALUE=URI:ohschonhell.at/?page_id=13162
SUMMARY:Psychedelic Culture ** Confo ** Petran ** Nemsys** and many more
LOCATION:CLUB 34
END:VEVENT
END:VCALENDAR


