BEGIN:VCALENDAR
VERSION:2.0
PRODID:-//hacksw/handcal//NONSGML v1.0//EN
BEGIN:VEVENT
UID:6838
DTSTART;VALUE=DATE:20161015
URL;VALUE=URI:ohschonhell.at/?page_id=13164
SUMMARY:BOINK! meets ABENDLEKTÜRE w/ SVEN WITTEKIND // Event Arena Vösendorf
LOCATION:Event Arena Vösendorf
END:VEVENT
END:VCALENDAR


