BEGIN:VCALENDAR
VERSION:2.0
PRODID:-//hacksw/handcal//NONSGML v1.0//EN
BEGIN:VEVENT
UID:6841
DTSTART;VALUE=DATE:20160924
URL;VALUE=URI:ohschonhell.at/?page_id=13170
SUMMARY::overdose//24/9/#4
LOCATION:DUAL
END:VEVENT
END:VCALENDAR


