BEGIN:VCALENDAR
VERSION:2.0
PRODID:-//hacksw/handcal//NONSGML v1.0//EN
BEGIN:VEVENT
UID:6845
DTSTART;VALUE=DATE:20160923
URL;VALUE=URI:ohschonhell.at/?page_id=13178
SUMMARY:Hi-NRG 1 w/ Mirko Hecktor
LOCATION:OPERA CLUB
END:VEVENT
END:VCALENDAR


