BEGIN:VCALENDAR
VERSION:2.0
PRODID:-//hacksw/handcal//NONSGML v1.0//EN
BEGIN:VEVENT
UID:6846
DTSTART;VALUE=DATE:20160923
URL;VALUE=URI:ohschonhell.at/?page_id=13180
SUMMARY:Coming HOME #3 w/ R Dorfmeister/Megablast/Sugar B/ Gü - Mix uvm
LOCATION:ROTE BAR
END:VEVENT
END:VCALENDAR


