BEGIN:VCALENDAR
VERSION:2.0
PRODID:-//hacksw/handcal//NONSGML v1.0//EN
BEGIN:VEVENT
UID:6865
DTSTART;VALUE=DATE:20161105
URL;VALUE=URI:ohschonhell.at/?page_id=13218
SUMMARY:Mainframe Recordings Live pres. Technique Takeover
LOCATION:ARENA
END:VEVENT
END:VCALENDAR


