BEGIN:VCALENDAR
VERSION:2.0
PRODID:-//hacksw/handcal//NONSGML v1.0//EN
BEGIN:VEVENT
UID:6869
DTSTART;VALUE=DATE:20160909
URL;VALUE=URI:ohschonhell.at/?page_id=13226
SUMMARY:Localize! Matt Mor
LOCATION:SASS
END:VEVENT
END:VCALENDAR


