BEGIN:VCALENDAR
VERSION:2.0
PRODID:-//hacksw/handcal//NONSGML v1.0//EN
BEGIN:VEVENT
UID:6880
DTSTART;VALUE=DATE:20160917
URL;VALUE=URI:ohschonhell.at/?page_id=13248
SUMMARY:Thomas &amp\; Friends extended w/ SAMMY DEE
LOCATION:SASS
END:VEVENT
END:VCALENDAR


