BEGIN:VCALENDAR
VERSION:2.0
PRODID:-//hacksw/handcal//NONSGML v1.0//EN
BEGIN:VEVENT
UID:6887
DTSTART;VALUE=DATE:20160906
URL;VALUE=URI:ohschonhell.at/?page_id=13262
SUMMARY:Das Techno Cafe
LOCATION:VOLKSGARTEN PAVILLON
END:VEVENT
END:VCALENDAR


