BEGIN:VCALENDAR
VERSION:2.0
PRODID:-//hacksw/handcal//NONSGML v1.0//EN
BEGIN:VEVENT
UID:6902
DTSTART;VALUE=DATE:20160908
URL;VALUE=URI:ohschonhell.at/?page_id=13292
SUMMARY:Donnerstag Nacht I Marcel Freigeist +1 (Berlin/Amsterdam)
LOCATION:SASS
END:VEVENT
END:VCALENDAR


