BEGIN:VCALENDAR
VERSION:2.0
PRODID:-//hacksw/handcal//NONSGML v1.0//EN
BEGIN:VEVENT
UID:6924
DTSTART;VALUE=DATE:20160917
URL;VALUE=URI:ohschonhell.at/?page_id=13338
SUMMARY:selecta bence
LOCATION:DELI AM NASCHMARKT
END:VEVENT
END:VCALENDAR


