BEGIN:VCALENDAR
VERSION:2.0
PRODID:-//hacksw/handcal//NONSGML v1.0//EN
BEGIN:VEVENT
UID:6928
DTSTART;VALUE=DATE:20161112
URL;VALUE=URI:ohschonhell.at/?page_id=13347
SUMMARY:Escape
LOCATION:Kramladen
END:VEVENT
END:VCALENDAR


