BEGIN:VCALENDAR
VERSION:2.0
PRODID:-//hacksw/handcal//NONSGML v1.0//EN
BEGIN:VEVENT
UID:6930
DTSTART;VALUE=DATE:20161014
URL;VALUE=URI:ohschonhell.at/?page_id=13351
SUMMARY:Malen Nach Zahlen w/ Riccardo (Imprints Rec.)
LOCATION:SASS
END:VEVENT
END:VCALENDAR


